BEGIN:VCALENDAR
VERSION:2.0
PRODID:-//pretix//pretix.eu//
BEGIN:VTIMEZONE
TZID:Europe/Berlin
BEGIN:STANDARD
DTSTART:20001029T040000
RRULE:FREQ=YEARLY;BYDAY=-1SU;BYMONTH=10
TZNAME:CET
TZOFFSETFROM:+0200
TZOFFSETTO:+0100
END:STANDARD
BEGIN:DAYLIGHT
DTSTART:20000326T030000
RRULE:FREQ=YEARLY;BYDAY=-1SU;BYMONTH=3
TZNAME:CEST
TZOFFSETFROM:+0100
TZOFFSETTO:+0200
END:DAYLIGHT
END:VTIMEZONE
BEGIN:VEVENT
UID:pretix-stadtbuechereiwst-leo3-4891058@termine.stadtbuecherei-westersted
 e.de
DTSTART;TZID=Europe/Berlin:20260609T083000
DTEND;TZID=Europe/Berlin:20260609T100000
DESCRIPTION:Tickets: https://termine.stadtbuecherei-westerstede.de/leo3/489
 1058/\nVeranstalter: Stadtbücherei Westerstede
DTSTAMP:20260423T122103Z
LOCATION:Stadtbücherei Westerstede\, Poststraße 7
SUMMARY:Leo Lesepilot Modul 3
END:VEVENT
END:VCALENDAR
